BEGIN:VCALENDAR
VERSION:2.0
PRODID:-//UCIMR - ECPv6.0.11//NONSGML v1.0//EN
CALSCALE:GREGORIAN
METHOD:PUBLISH
X-WR-CALNAME:UCIMR
X-ORIGINAL-URL:https://www.ucimr.ro
X-WR-CALDESC:Events for UCIMR
REFRESH-INTERVAL;VALUE=DURATION:PT1H
X-Robots-Tag:noindex
X-PUBLISHED-TTL:PT1H
BEGIN:VTIMEZONE
TZID:America/New_York
BEGIN:DAYLIGHT
TZOFFSETFROM:-0500
TZOFFSETTO:-0400
TZNAME:EDT
DTSTART:20160313T070000
END:DAYLIGHT
BEGIN:STANDARD
TZOFFSETFROM:-0400
TZOFFSETTO:-0500
TZNAME:EST
DTSTART:20161106T060000
END:STANDARD
BEGIN:DAYLIGHT
TZOFFSETFROM:-0500
TZOFFSETTO:-0400
TZNAME:EDT
DTSTART:20170312T070000
END:DAYLIGHT
BEGIN:STANDARD
TZOFFSETFROM:-0400
TZOFFSETTO:-0500
TZNAME:EST
DTSTART:20171105T060000
END:STANDARD
END:VTIMEZONE
BEGIN:VEVENT
DTSTART;TZID=America/New_York:20170119T190000
DTEND;TZID=America/New_York:20170119T190000
DTSTAMP:20260420T054105
CREATED:20170115T081750Z
LAST-MODIFIED:20170115T081750Z
UID:1559-1484852400-1484852400@www.ucimr.ro
SUMMARY:Seri de Jazz și Muzică Clasică - Lorena Aura Rogozan
DESCRIPTION:Radio România Tîrgu Mureș împreună cu  UCIMR\, și Asociația Neumarkt Events vă invită la o nouă ediție specială a proiectului „Seri de Jazz și Muzică Clasică” la Radio Tîrgu Mureș. \nÎn luna în care se sărbătorește „Ziua Națională a Culturii”\, pe 19 ianuarie de la ora 19.00 vă invităm în Sala de Concerte Radio Tîrgu Mureș de pe bd. 1 Decembrie 1918 nr.109 pentru un nou eveniment extraordinar inclus în stagiunea „Seri de Jazz și Muzică Clasică”\nProtagonista serii va fi pianista Lorena Aura Rogozan\, elevă în clasa a XII-a la Liceul Vocațional de Artă din Tîrgu Mureș – clasa Carmen Popescu\, candidată la o bursă în Danemarca. \nÎn program : \nFr.Chopin : Studiu postum nr.1\nJ.S. Bach : Preludiu si Fuga nr.2-Clavecinul bine temperat volumul 2\nL. van Beethoven: sonata op. 90 integral ( p 1 si 2)\nFr.Liszt : ” Aus dem Wasser zu siengen”- transcriptie dupa un lied de Schubert \nÎn cadrul recitalului își vor da concursul și elevi ai secțiilor oboi\, chitară și arta actorului din cadrul Liceului Vocațional de Artă din Tîrgu Mureș. \nUn proiect marca Radio Tîrgu Mureș realizat cu sprijinul UCIMR\, Neumarkt Events și Exces Music. \nParteneri: \nagentiadecarte.ro\nCotidianul „Zi de Zi”\nAsociația K Arte\nȘtii TV \nIntrarea la eveniment este liberă! \nConcertul va fi transmis live pe www.radiomures.ro
URL:https://www.ucimr.ro/eveniment/seri-de-jazz-si-muzica-clasica-lorena-aura-rogozan/
LOCATION:Sala de concerte a Radio Târgu Mureș\, Bulevardul 1 Decembrie 1928\, nr 109\, Targu Mures\, România
CATEGORIES:Targu Mures
ATTACH;FMTTYPE=image/jpeg:https://www.ucimr.ro/wp-content/uploads/2017/01/event-ianuarie-2017.jpg
END:VEVENT
BEGIN:VEVENT
DTSTART;TZID=America/New_York:20161219T190000
DTEND;TZID=America/New_York:20161219T200000
DTSTAMP:20260420T054105
CREATED:20161031T044532Z
LAST-MODIFIED:20161215T074905Z
UID:1463-1482174000-1482177600@www.ucimr.ro
SUMMARY:Muzică și Arte la Muzeu - Carols for friends
DESCRIPTION:În data de 19 decembrie 2016\, de la ora 19.00\, vă invităm la „Carols for friends” – un recital de muzică și poezie susținut de elevii de la secția de Arta Actorului din cadrul Liceului Vocațional de Artă din Tîrgu Mureș. \n– \nStagiunea „Muzică și Arte la Muzeu” se vrea a fi o completare a ofertei culturale din Tîrgu Mureș prin organizarea unor evenimente cu frecvența de cel puțin odată pe lună dedicate jazz-ului\, muzicii clasice\, dansului sau artelor vizuale ori poeziei în spațiile expoziționale sau în curtea interioară a  Muzeului de Etnografie și Artă Populară găzduit de una dintre cele mai frumoase clădiri în stil Secesion Transilvănean\, o adevărată bijuterie arhitecturală\, Palatul Toldlagy. \nOrganizată de UCIMR și Asociația Neumarkt Events în parteneriat cu Muzeul Județean Mureș stagiunea vine atât în sprijinul artiștilor fie ei debutanți sau consacrați cât și a publicului având totodată misiunea de a promova spațiul și expozițiile Muzeului de Etnografie și Artă Populară. \nGazdă a evenimentelor va fi actrița și cântăreața Ana Maria Galea.
URL:https://www.ucimr.ro/eveniment/muzica-si-arte-la-muzeu-carols-for-friends/
LOCATION:Muzeul de Etnografie și Artă Populară\, Piața Trandafirilor 11\, Tirgu Mures\, România
CATEGORIES:Targu Mures
ATTACH;FMTTYPE=image/jpeg:https://www.ucimr.ro/wp-content/uploads/2016/10/15491718_1806223132999399_1097092188_o.jpg
END:VEVENT
BEGIN:VEVENT
DTSTART;TZID=America/New_York:20161209T190000
DTEND;TZID=America/New_York:20161209T200000
DTSTAMP:20260420T054105
CREATED:20161031T044027Z
LAST-MODIFIED:20161031T044138Z
UID:1462-1481310000-1481313600@www.ucimr.ro
SUMMARY:Muzică și Arte la Muzeu - From classic to jazz
DESCRIPTION:În data de 9 decembrie 2016\, la ora 19.00\, vă invităm la concertul „From classic to jazz” – un recital al chitaristei și vocalistei Mădălina Petre. \n– \nStagiunea „Muzică și Arte la Muzeu” se vrea a fi o completare a ofertei culturale din Tîrgu Mureș prin organizarea unor evenimente cu frecvența de cel puțin odată pe lună dedicate jazz-ului\, muzicii clasice\, dansului sau artelor vizuale ori poeziei în spațiile expoziționale sau în curtea interioară a  Muzeului de Etnografie și Artă Populară găzduit de una dintre cele mai frumoase clădiri în stil Secesion Transilvănean\, o adevărată bijuterie arhitecturală\, Palatul Toldlagy. \nOrganizată de UCIMR și Asociația Neumarkt Events în parteneriat cu Muzeul Județean Mureș stagiunea vine atât în sprijinul artiștilor fie ei debutanți sau consacrați cât și a publicului având totodată misiunea de a promova spațiul și expozițiile Muzeului de Etnografie și Artă Populară. \nGazdă a evenimentelor va fi actrița și cântăreața Ana Maria Galea.
URL:https://www.ucimr.ro/eveniment/muzica-si-arte-la-muzeu-from-classic-to-jazz/
LOCATION:Muzeul de Etnografie și Artă Populară\, Piața Trandafirilor 11\, Tirgu Mures\, România
CATEGORIES:Targu Mures
END:VEVENT
BEGIN:VEVENT
DTSTART;TZID=America/New_York:20161130T190000
DTEND;TZID=America/New_York:20161130T200000
DTSTAMP:20260420T054105
CREATED:20161205T114749Z
LAST-MODIFIED:20161205T114749Z
UID:1540-1480532400-1480536000@www.ucimr.ro
SUMMARY:Piazzolla\, just tango – Anca Turcasiu & Accord Vibes
DESCRIPTION:Accord Vibes- Just Tango\, reprezintă unul dintre cele mai complexe și spectaculoase proiecte de muzică new tango din România și nu numai. Într-o formulă originală: Alexandru Anastasiu- vibrafon\, Fernando Mihalache –acordeon și Cezar Knihinschi-contrabas\, Accord Vibes preia celebrele piese ale lui Astor Piazzola\, cărora le  confera un aer de unicitate\, prin aranjamentele originale și maniera  interpretativă de înaltă clasă. \nElementul de culoare este dat de prezența rafinată a Ancăi Țurcașiu- artista reușind prin veleiățile sale\,  atât muzicale cât și actoricești\, să întregească tabloul acestui proiect inedit. \nProiectul va debuta  în data de  30 noiembrie  la Teatrul Naţional  din Târgu Mureș  și va continua printr-un turneu national în alte 3 orașe: \n\nBucurești – 4 decembrie\, ora 19\, Sala Radio\nPloiești – 11 decembrie\, ora 19\, Filarmonica\nBrașov – 14 decembrie\, ora 19\, Sala Patria\n\nBilete găsiți pe: http://www.eventim.ro/ro/artist/just-tango-1532/profile.html
URL:https://www.ucimr.ro/eveniment/piazzolla-just-tango-anca-turcasiu-accord-vibes-3/
LOCATION:Teatrul National\, Targu Mures\, România
CATEGORIES:Targu Mures
ATTACH;FMTTYPE=image/jpeg:https://www.ucimr.ro/wp-content/uploads/2016/11/accord-vibes-si-anca-turcasiu_crop.jpg
END:VEVENT
BEGIN:VEVENT
DTSTART;TZID=America/New_York:20161125T190000
DTEND;TZID=America/New_York:20161125T210000
DTSTAMP:20260420T054105
CREATED:20161031T043706Z
LAST-MODIFIED:20161117T115042Z
UID:1460-1480100400-1480107600@www.ucimr.ro
SUMMARY:Muzică și Arte la Muzeu - cu New Landscapes
DESCRIPTION:În data de 25 noiembrie 2016\,  de la ora 20.00\, vă invităm la concertul susținut de New Landscapes\, adica de pianistul Daniel Csikos\, vocalista Ana Maria Galea și invitatul lor\, trompetistul Emil Bîzgă. \n– \nStagiunea „Muzică și Arte la Muzeu” se vrea a fi o completare a ofertei culturale din Tîrgu Mureș prin organizarea unor evenimente cu frecvența de cel puțin odată pe lună dedicate jazz-ului\, muzicii clasice\, dansului sau artelor vizuale ori poeziei în spațiile expoziționale sau în curtea interioară a  Muzeului de Etnografie și Artă Populară găzduit de una dintre cele mai frumoase clădiri în stil Secesion Transilvănean\, o adevărată bijuterie arhitecturală\, Palatul Toldlagy. \nOrganizată de UCIMR și Asociația Neumarkt Events în parteneriat cu Muzeul Județean Mureș stagiunea vine atât în sprijinul artiștilor fie ei debutanți sau consacrați cât și a publicului având totodată misiunea de a promova spațiul și expozițiile Muzeului de Etnografie și Artă Populară. \nGazdă a evenimentelor va fi actrița și cântăreața Ana Maria Galea.
URL:https://www.ucimr.ro/eveniment/muzica-si-arte-la-muzeu-cu-new-landscapes/
LOCATION:Muzeul de Etnografie și Artă Populară\, Piața Trandafirilor 11\, Tirgu Mures\, România
CATEGORIES:Targu Mures
ATTACH;FMTTYPE=image/jpeg:https://www.ucimr.ro/wp-content/uploads/2016/10/afis-tg-mures.jpg
END:VEVENT
BEGIN:VEVENT
DTSTART;TZID=America/New_York:20161123T190000
DTEND;TZID=America/New_York:20161123T200000
DTSTAMP:20260420T054105
CREATED:20161031T043042Z
LAST-MODIFIED:20161117T114743Z
UID:1458-1479927600-1479931200@www.ucimr.ro
SUMMARY:Seri de Jazz și Muzică Clasică - Kecskes Aved Erika
DESCRIPTION:Radio România Tîrgu Mureș împreună cu  UCIMR\, și Asociația Neumarkt Events vă invită la o nouă ediție specială a proiectului „Seri de Jazz și Muzică Clasică” la Radio Tîrgu Mureș . \nArtistele  KECSKÉS ÁVÉD ERIKA – vioară  și ÁVÉD ÉVA – se vor întâlni pe scena din Studioul 3\, Sala de Concerte RTM pentru un recital de muzică de camera care cuprinde lucrări semnate W.A.Mozart\, G.Enescu\, E.Grieg. \nAșadar vă așteptăm în Sala de Concerte din bd. 1 Decembrie 1918 nr.109\, pe 23 noiembrie de la ora 19.00\, pentru o oră dedicată muzicii de camera. \nIntrarea la emisiunea–spectacol este liberă. Aceasta va putea fi urmărită live pe www.radiomures.ro. \nGazda evenimentului va fi Ana Maria Galea \n  \nProgramul recitalului:\nW.A.Mozart: Sonata în Sol major \nG.Enescu: Impromtu concertant \nE.Grieg: Sonata nr.3 în do minor op.45\nParteneri :\nExces Muzic\nCotidianul „Zi de Zi”\nagentiadecarte.ro \nAsociația K”Arte \nConcertul va fi transmis live pe www.radiomures.ro
URL:https://www.ucimr.ro/eveniment/seri-de-jazz-si-muzica-clasica-kecskes-aved-erika/
LOCATION:Sala de concerte a Radio Târgu Mureș\, Bulevardul 1 Decembrie 1928\, nr 109\, Targu Mures\, România
CATEGORIES:Targu Mures
ATTACH;FMTTYPE=image/jpeg:https://www.ucimr.ro/wp-content/uploads/2016/10/cover-bun1.jpg
END:VEVENT
BEGIN:VEVENT
DTSTART;TZID=America/New_York:20161101T180000
DTEND;TZID=America/New_York:20161101T190000
DTSTAMP:20260420T054105
CREATED:20161031T040318Z
LAST-MODIFIED:20161031T040318Z
UID:1454-1478023200-1478026800@www.ucimr.ro
SUMMARY:Seri de Jazz și Muzică Clasică - ediție specială
DESCRIPTION:Cu ocazia zilei de 1 noiembrie\, „Ziua Radioului”\, Radio România Tîrgu Mureș împreună cu  UCIMR\, Liceul Vocațional de Artă din Tîrgu Mureș și Asociația Neumarkt Events vă invită la\, vă invită la o ediție specială a proiectului „Seri de Jazz și Muzică Clasică” la Radio Tîrgu Mureș . \nElevi ai Liceului Vocațional de Artă de la secțiile „Arta Actorului” și „Interpretare instrumentală” își vor da întâlnire într-un spectacol de muzică și poezie intitulat „Contrapunct”. Dacă vreți să aflați care este legătura între poezia contemporană și muzica clasică vă așteptăm în Sala de Concerte din br. 1 Decembrie 1918 nr.109 \, pe 1 noiembrie de la ora 18.00\, pentru o oră dedicată celor mai sincere emoții transmise prin sunet și cuvânt. \nIntrarea la emisiunea–spectacol este liberă. Aceasta va putea fi urmărită live pe www.radiomures.ro și pe frecvențele RTM 102\,9 FM și 98\,9 FM \nGazda evenimentului va fi Ana Maria Galea
URL:https://www.ucimr.ro/eveniment/seri-de-jazz-si-muzica-clasica-editie-speciala/
LOCATION:Sala de concerte a Radio Târgu Mureș\, Bulevardul 1 Decembrie 1928\, nr 109\, Targu Mures\, România
CATEGORIES:Targu Mures
ATTACH;FMTTYPE=image/jpeg:https://www.ucimr.ro/wp-content/uploads/2016/10/14713088_1770231009885634_1248839723944236505_o-e1477911739603.jpg
END:VEVENT
BEGIN:VEVENT
DTSTART;TZID=America/New_York:20161009T190000
DTEND;TZID=America/New_York:20161009T200000
DTSTAMP:20260420T054105
CREATED:20161031T065511Z
LAST-MODIFIED:20161031T065511Z
UID:1489-1476039600-1476043200@www.ucimr.ro
SUMMARY:Muzică și Arte la Muzeu
DESCRIPTION:Stagiunea „Muzică și Arte la Muzeu” se vrea a fi o completare a ofertei culturale din Tîrgu Mureș prin organizarea unor evenimente cu frecvența de cel puțin odată pe lună dedicate jazz-ului\, muzicii clasice\, dansului sau artelor vizuale ori poeziei în spațiile expoziționale sau în curtea interioară a  Muzeului de Etnografie și Artă Populară găzduit de una dintre cele mai frumoase clădiri în stil Secesion Transilvănean\, o adevărată bijuterie arhitecturală\, Palatul Toldlagy. \nOrganizată de UCIMR și Asociația Neumarkt Events în parteneriat cu Muzeul Județean Mureș stagiunea vine atât în sprijinul artiștilor fie ei debutanți sau consacrați cât și a publicului având totodată misiunea de a promova spațiul și expozițiile Muzeului de Etnografie și Artă Populară. \nGazdă a evenimentelor va fi actrița și cântăreața Ana Maria Galea.
URL:https://www.ucimr.ro/eveniment/muzica-si-arte-la-muzeu/
LOCATION:Palatul Culturii\, Tirgu Mures\, România
CATEGORIES:Targu Mures
END:VEVENT
BEGIN:VEVENT
DTSTART;TZID=America/New_York:20160320T180000
DTEND;TZID=America/New_York:20160320T190000
DTSTAMP:20260420T054105
CREATED:20160316T060721Z
LAST-MODIFIED:20160316T060826Z
UID:1271-1458496800-1458500400@www.ucimr.ro
SUMMARY:Tales @ Târgu Mureș
DESCRIPTION:Duo Cello Jaya\, unul dintre cele mai apreciate ansambluri camerale din România\, va susține primul turneu național în perioada 19 – 31 martie în orașele Sibiu\, Târgu – Mureș\, Craiova\, Sinaia\, București și Pitești. \nFarmecul de poveste al violoncelului va prinde viață prin programul propus de Ella Bokor și Mircea Marian\, violonceliști remarcați în formula de duo în ultimii 5 ani pe scenele marilor săli de concert din România. \nLa acest turneu\, li se va alătura actrița Ioana Flora\, în rolul de povestitor\, a cărei activitate în cinematografie i-a adus în ultimii ani premiul pentru „Cea mai bună actriță” la numeroase festivaluri internaționale (Salonic\, Aubagne\, selecție la Cannes și Premiul Gopo) și\, totodată\, al doilea invitat special va fi soprana Veronica Anușca\, una dintre vocile noii generații\, distinsă cu numeroase premii naționale și internaționale pentru interpretare. \nIntrarea va fi liberă (concert cu ocazia Zilei Internaționale a Teatrului pentru copii și tineret)
URL:https://www.ucimr.ro/eveniment/tales-targu-mures/
LOCATION:Teatrul Ariel\, Targu Mures\, România
CATEGORIES:Targu Mures
ATTACH;FMTTYPE=image/jpeg:https://www.ucimr.ro/wp-content/uploads/2016/03/turneu-duo-cello-jaya-tales.jpg
END:VEVENT
BEGIN:VEVENT
DTSTART;TZID=America/New_York:20160309T190000
DTEND;TZID=America/New_York:20160309T200000
DTSTAMP:20260420T054105
CREATED:20160305T081345Z
LAST-MODIFIED:20160305T081345Z
UID:1226-1457550000-1457553600@www.ucimr.ro
SUMMARY:Concert Jazz Teodora Spânu & Co.
DESCRIPTION:Un nou concert din seria „Seri de jazz și muzică clasica”.
URL:https://www.ucimr.ro/eveniment/concert-jazz-teodora-spanu-co/
LOCATION:Sala de concerte a Radio Târgu Mureș\, Bulevardul 1 Decembrie 1928\, nr 109\, Targu Mures\, România
CATEGORIES:Targu Mures
END:VEVENT
BEGIN:VEVENT
DTSTART;TZID=America/New_York:20160120T190000
DTEND;TZID=America/New_York:20160120T200000
DTSTAMP:20260420T054105
CREATED:20160316T062958Z
LAST-MODIFIED:20160316T064112Z
UID:1286-1453316400-1453320000@www.ucimr.ro
SUMMARY:Seri de jazz și muzică clasică - Cvartetul Solartis
DESCRIPTION:Primul concert al anului 2016 va fi susținut de cvartetul de muzică clasică „Solartis”\, care în toamna anului 2014 a fost laureat cu Premiul II şi Premiul Special “Antonin Dvorak” la Concursul International de Muzica de Cameră “Plovdiv\, Bulgaria”. \nCvartetul este format din studenţi şi absolvenţi ai Universităţii Naţionale de Muzică din Bucureşti si s-a înfiinţat în anul 2012 din dorinţa a patru instrumentişti pasionati de a face muzică şi de a cânta împreună. \nEi sunt:\nSabin Penea – vioara I\nAna Maria Marian – vioara II\nLaura Zecheru – viola\nAndrei Niţescu – violoncel. \nCvartetul „Solartis” (Solartis Quartet) rămâne un ansamblu promiţător pe scenele din România şi este cel mai potrivit pentru primul concert din anul nou.
URL:https://www.ucimr.ro/eveniment/seri-de-jazz-si-muzica-clasica-cvartetul-solartis/
LOCATION:Sala de concerte a Radio Târgu Mureș\, Bulevardul 1 Decembrie 1928\, nr 109\, Targu Mures\, România
CATEGORIES:Targu Mures
ATTACH;FMTTYPE=image/jpeg:https://www.ucimr.ro/wp-content/uploads/2016/03/solartis-tg-mures.jpg
END:VEVENT
END:VCALENDAR