BEGIN:VCALENDAR
VERSION:2.0
PRODID:-//UCIMR - ECPv6.0.11//NONSGML v1.0//EN
CALSCALE:GREGORIAN
METHOD:PUBLISH
X-WR-CALNAME:UCIMR
X-ORIGINAL-URL:https://www.ucimr.ro
X-WR-CALDESC:Events for UCIMR
REFRESH-INTERVAL;VALUE=DURATION:PT1H
X-Robots-Tag:noindex
X-PUBLISHED-TTL:PT1H
BEGIN:VTIMEZONE
TZID:America/New_York
BEGIN:DAYLIGHT
TZOFFSETFROM:-0500
TZOFFSETTO:-0400
TZNAME:EDT
DTSTART:20160313T070000
END:DAYLIGHT
BEGIN:STANDARD
TZOFFSETFROM:-0400
TZOFFSETTO:-0500
TZNAME:EST
DTSTART:20161106T060000
END:STANDARD
BEGIN:DAYLIGHT
TZOFFSETFROM:-0500
TZOFFSETTO:-0400
TZNAME:EDT
DTSTART:20170312T070000
END:DAYLIGHT
BEGIN:STANDARD
TZOFFSETFROM:-0400
TZOFFSETTO:-0500
TZNAME:EST
DTSTART:20171105T060000
END:STANDARD
END:VTIMEZONE
BEGIN:VEVENT
DTSTART;VALUE=DATE:20170719
DTEND;VALUE=DATE:20170731
DTSTAMP:20260420T122447
CREATED:20170219T140103Z
LAST-MODIFIED:20170219T140114Z
UID:1589-1500422400-1501459199@www.ucimr.ro
SUMMARY:Academia ICon Arts Transilvania
DESCRIPTION:După 14 ani în care a promovat arta contemporană în Sibiu și în împrejurimi\, Festivalul ICon Arts se extinde începând de anul viitor în Transilvania. Sighișoara\, Sibiu\, Biertan\, Richiș\, Alma Vii\, Mălâncrav și alte localități din regiune vor găzdui concertele din cadrul Festivalului și cursurile Academiei ICon Arts 2017. Evenimentul va avea loc în perioada 19-30 iulie 2017. Transilvania va reprezenta și tema ediției de anul viitor. \n”Prin ICon Arts Transilvania dorim să abordăm arta contemporană ca expresie a îmbinării tradiției cu avangarda și a meșteșugurilor vechi cu tehnologiile noi. Vom apropia comunități diferite (artiști\, vizitatori și localnici) și le vom provoca să interacționeze\, să se exploreze reciproc și să se bucure de ceea ce poate fiecare oferi. Am ales pentru aceasta câteva sate din comunele reînsuflețite ale Transilvaniei\, una dintre cele mai autentice zone din Europa\, unde vom organiza\, pe tot parcursul Academiei și Festivalului\, evenimente speciale\, coordonate în parteneriat cu Mihai Eminescu Trust și Experience Transilvania. Vom avea\, totodată\, și concertele din Sibiu\, cu care publicul s-a obișnuit și pe care ne bucurăm să le continuăm și în acest an\, dar ne-ar plăcea ca sibienii să ne viziteze în Richiș\, Alma Vii\, Mălâncrav și Biertan\, unde vor avea parte de experiențe diferite și – sperăm noi\, foarte plăcute.” Sebastian Gheorghiu\, director de proiect. \nÎnscrierile la Academia ICon Arts Transilvania\, în cadrul careia vor avea loc masterclassuri de interpretare (chitară\, clarinet\, flaut\, percuție\, vioară)\, compoziție\, canto\, jazz\, dans contemporan\, arta actorului și a improvizației\, sunt deschise. Pentru înscrierile făcute până pe data de 1 aprilie 2017 există o reducere de 10% la pachetele standard. Detalii pe iconarts.ro 
URL:https://www.ucimr.ro/eveniment/academia-icon-arts-transilvania/
CATEGORIES:Sibiu,Sudul Transilvaniei
ATTACH;FMTTYPE=image/jpeg:https://www.ucimr.ro/wp-content/uploads/2017/02/Poster-ICon-Arts-2017_v1.jpg
END:VEVENT
BEGIN:VEVENT
DTSTART;TZID=America/New_York:20170616T190000
DTEND;TZID=America/New_York:20170616T200000
DTSTAMP:20260420T122447
CREATED:20170616T115904Z
LAST-MODIFIED:20170616T120142Z
UID:1738-1497639600-1497643200@www.ucimr.ro
SUMMARY:Anotimpuri. Primavara. Concert Ethotic
DESCRIPTION:După succesul din 2016\, suntem bucuroși să vă anunțăm sezonul 2 al seriei de concerte Anotimpuri. \nPe 19 iunie\, în Sala Thalia din Sibiu\, vă invităm la concertul Primăvara cu Ethnotic\, adică: \nIrina Sarbu – voce\nCezar Cazanoi – flaut și caval\nCazanoi Anatol – tambal și clape\nCapriel Dedeian – chitară\nCiprian Parghel – bas\nDragos Mihu Dragomir – tobe \nCombinând cu subtilitate sonoritățile tradiționale românești cu libertatea jazz-ului de dincolo de ocean\, cei șase muzicieni propun o incursiune într-o lume nouă și totodată familiară\, clădită pe rădăcinile folclorului românesc ce se ramifică în improvizații exuberante. \n–-\nBiletele s-au pus în vânzare prin eventim.ro și prin rețeaua eventim: librăria Humanitas\, magazinele Orange\, Vodafone și Germanos. Costul unui bilet este 10 si 20 lei.\nOnline pot fi achizitionate de aici: http://www.eventim.ro/ro/bilete/anotimpuri-2-primavara-sibiu-filarmonica-de-stat-sala-thalia-465753/event.html\n–-\nAcţiune cofinanţată de Consiliul Local Sibiu şi Primăria Municipiului Sibiu.
URL:https://www.ucimr.ro/eveniment/anotimpuri-primavara-concert-ethotic/
LOCATION:Sala Thalia\, Sibiu\, Sibiu\, România
CATEGORIES:Sibiu
ATTACH;FMTTYPE=image/jpeg:https://www.ucimr.ro/wp-content/uploads/2017/06/Poster-ETHNOTIC_Primavara.jpg
END:VEVENT
BEGIN:VEVENT
DTSTART;TZID=America/New_York:20170615T080000
DTEND;TZID=America/New_York:20170715T170000
DTSTAMP:20260420T122447
CREATED:20170628T013227Z
LAST-MODIFIED:20170628T013227Z
UID:1762-1497513600-1500138000@www.ucimr.ro
SUMMARY:CAMERA - Apel de proiecte în sprijinul muzicii noi
DESCRIPTION:UCIMR în parteneriat cu EnjoyTV.ro a lansat CAMERA\, un apel de proiecte în sprijinul muzicii noi din aria cultă \nEforturile tinerilor muzicieni români de a compune lucrări originale rămân de multe ori accesibile unui public restrâns\, iar patrimoniul imaterial ce se creează în acest moment riscă să se piardă. De acum\, evenimentele și performance-urile realizate de ei primesc sprijinul nostru pentru a ajunge la o audiență națională\, prin co-finanțare AFCN. \nPerioada de înscrieri este 15 iunie – 15 iulie. \nApelul este un demers realizat în premieră în România\, dedicat tuturor celor care urmează să organizeze concerte sau spectacole de muzică nouă cultă (compusă după ianuarie 2016)\, de factură contemporană scrisă sau experimentală/improvizatorică. \nEvenimentele sunt eligibile pentru perioada 10 septembrie – 10 noiembrie 2017\, în București\, Sibiu sau Târgu Mureș. \nVor fi selectate 6 propuneri câștigătoare care vor fi promovate prin EnjoyTV.ro: transmisie prin live streaming a concertului/spectacolului\, întregistrarea audio-video integrală mixată din fluxul live\, în foarte bune condiţii tehnice\, un video-montaj scurt al înregistrării\, un set de fotografii documentare profesioniste și un premiu în valoare de 2000 lei pentru fiecare din cele 6 concerte sau spectacole câștigătoare. \nRegulamentul și mai multe amănunte pot fi găsite pe site-ul UCIMR – Uniunea de Creație Interpretativă a Muzicienilor din România:\nhttp://www.ucimr.ro/camera/\n \nO dată cu acest proiect\, ENJOYTV.ro și-a anunțat public statutul de televiziune culturală online\, după o experiență cumulată în mai bine de 2 ani de transmisiuni și producții culturale. \nFluxul EnjoyTV.ro cuprinde în prezent o arhivă de peste 150 de producții originale\, emisiuni și înregistrări ale unor proiecte recente precum Round Table București\, Round Table România\, Stagiunea de colecție\, Arts District is Here\, Festivalul Icon Arts\, ArgEnTango\, Pauza de o pătrime\, numeroase concerte din București\, Sibiu\, Sinaia\, Târgu – Mureș\, iar numărătoarea continuă în perspectiva anului 2017 în care sunt anunțate noi proiecte culturale realizate de partenerii EnjoyTV.ro
URL:https://www.ucimr.ro/eveniment/camera-apel-de-proiecte-in-sprijinul-muzicii-noi/
CATEGORIES:Brașov,Bucuresti,Cluj,Constanța,Craiova,Iași,Pitesti,Ploiesti,Râșnov,Sibiu,Sinaia,Sudul Transilvaniei,Targu Mures,Timișoara
ATTACH;FMTTYPE=image/jpeg:https://www.ucimr.ro/wp-content/uploads/2016/01/logo-CAMERA.jpg
END:VEVENT
BEGIN:VEVENT
DTSTART;TZID=America/New_York:20170309T190000
DTEND;TZID=America/New_York:20170309T200000
DTSTAMP:20260420T122447
CREATED:20170228T064404Z
LAST-MODIFIED:20170320T080503Z
UID:1602-1489086000-1489089600@www.ucimr.ro
SUMMARY:Dan și Lia Perjovschi  @ Round Table Romania
DESCRIPTION:Dan și Lia Perjovschi\, invitați la ediția specială Round Table Sibiu \nO ediție specială Round Table România va avea loc joi\, 9 martie\, avându-i invitați pe Dan și Lia Perjovschi\, unul dintre cele mai cunoscute cupluri din arta contemporană. Despre filosofia și viziunea lor de lucru vom afla din dialogul purtat cu jurnalista Oana Ciucă Lázár\, începând cu ora 19.00\, pe scena Teatrului Gong din Sibiu (Strada Alexandru Odobescu nr. 4) și în direct pe www.EnjoyTV.ro \nCa de fiecare dată\, dialogul protagoniștilor va fi completat de intermedii artistice live. La această ediție vor concerta Ad Hoc – formația de chitară acustică formată din muzicieni cu vârste de la 6 la 60 de ani\, cu elevi din școlile generale și liceele din Sibiu\, formație cu repertoriul propriu și reorchestrări\, condusă de Marius Brad; Va mai concerta Banda CPO formată și pregătită de Radu Popescu și Marius Ciprian Oancea\, compusă din copii de la centrul de plasament din Orlat – vor cânta standarde jazz. \nEvenimentul va avea intrarea liberă\, iar accesul în sală se va face pe baza unei rezervări la Teatrul Gong\, la adresa ticketing@teatrulgong.ro  \n– \nInițiat de UCIMR în toamna anului 2015\, proiectul spectacolelor – conferință Round Table însumează până în prezent 28 de evenimente\, cu zeci de mii de vizualizări pe internet. Începând cu acest sezon\, Round Table se va desfășura după un format itinerant\, cu ediții în București\, Brașov\, Sibiu și Târgu-Mureș\, nelipsind intermediile artistice live. Cu acest prilej\, organizatorii au completat numele proiectului\, devenind Round Table România. Primii invitați ai Sezonului 4 au fost Judith State\, Horia Mihail și Irina Sârbu (cu ediții disponibile integral pe YouTube)\, iar următoarele evenimente pregătesc ediții dedicate artiștilor: Dan și Lia Perjovschi (9 martie la Sibiu)\, Luiza Zan (23 martie\, București) și Tiberiu Soare (30 martie\, București). \n„Programul Round Table România urmărește\, și în acest sezon\, promovarea artiștilor români ce s-au făcut remarcați pe scenele internaționale\, printr-un efort de redobândire a unei mentalități frumoase: aceea de a ne revalorifica elitele actuale românești.” – Valentina Sandu – Dediu
URL:https://www.ucimr.ro/eveniment/dan-si-lia-perjovschi-round-table-romania/
LOCATION:Teatrul Gong\, Sibiu\, România
CATEGORIES:Sibiu
ATTACH;FMTTYPE=image/jpeg:https://www.ucimr.ro/wp-content/uploads/2017/03/round-table-romania_perjovschi.jpg
END:VEVENT
BEGIN:VEVENT
DTSTART;TZID=America/New_York:20161231T180000
DTEND;TZID=America/New_York:20170101T220000
DTSTAMP:20260420T122447
CREATED:20161205T123909Z
LAST-MODIFIED:20161205T124105Z
UID:1546-1483207200-1483308000@www.ucimr.ro
SUMMARY:Concert de Anul Nou la Sibiu 2017 - Christiana Uikiza & Sibiu Big Band
DESCRIPTION:Cel mai aşteptat eveniment muzical al sfârşitului de an – Concertul de Anul Nou de la Sibiu – prilejuişte întâlnirea publicului cu una dintre cele mai apreciate voci feminine ale momentului: Christiana Uikiza\, care va cânta alături de Sibiu Big Band şi Rareş Popsa (chitară). Secvenţe muzicale din repertoriul internaţional vor face din acest eveniment unul deosebit\, continuând tradiţia din anii precedenţi. \nBiletele pentru cele două concerte – din seara de 31 decembrie 2016 și 1 ianuarie 2017 – pot fi cumpărate din rețeaua Eventim (sau accesând acest link). \n”Concertul de Anul Nou în Sibiu” a fost lansat în urmă cu 8 ani\, în data de 31 decembrie\, din dorinţa de-a aduce pe piaţa românească celebrul concept de inspiraţie vieneză\, într-o notă personală\, care să-i consolideze\, în timp\, semnătura originală. \nBucurându-se încă de la început de succes – şi probându-şi\, astfel\, necesitatea\, evenimentul s-a impus în prima linie între ofertele divertismentului cultural de Revelion organizate la nivel naţional\, desfăşurându-se\, de fiecare dată\, cu casa închisă şi atrăgând cumpărători de bilete atât din Sibiu cât şi din alte oraşe din ţară.
URL:https://www.ucimr.ro/eveniment/concert-de-anul-nou-la-sibiu-2017-christiana-uikiza-sibiu-big-band/
LOCATION:Sala Thalia\, Sibiu\, Sibiu\, România
CATEGORIES:Sibiu
ATTACH;FMTTYPE=image/jpeg:https://www.ucimr.ro/wp-content/uploads/2016/11/15137561_701269886697571_7251218193861739162_o.jpg
END:VEVENT
BEGIN:VEVENT
DTSTART;TZID=America/New_York:20161028T190000
DTEND;TZID=America/New_York:20161028T200000
DTSTAMP:20260420T122447
CREATED:20161031T052829Z
LAST-MODIFIED:20161031T053325Z
UID:1472-1477681200-1477684800@www.ucimr.ro
SUMMARY:Anotimpuri - Toamna cu ArgEnTango
DESCRIPTION:După succesele răsunatoare ale turneelor Vă place Bach?\, Vă place Brahms?\, Vă place Tango?\, îndrăgita solistă Analia Selis reunește în jurul său muzicieni excepționali pentru un nou proiect unic în România. \nObiectivul acestuia exprimă în cel mai autentic mod cu putință muzica compusă de Astor Piazzolla\, supranumită “soundtrack” al Buenos Aires-ului. \nCu o puternică tripletă argentiniană formată din binecunoscuții Analia Selis (voce)\, Mariano Castro (pian) și Omar Massa (bandoneon)\, venit special în România pentru acest proiect\, se adaugă doi muzicieni români de mare valoare\, Răzvan Suma (violoncel) și Rafael Butaru (vioară). \nArgenTango își propune să aducă publicului o latură necunoscută a lui Piazzolla în România. Multe dintre cele mai cunoscute piese vocal-instrumentale sunt susținute de marii poeți J. L. Borges și Horacio Ferrer. \nBeneficiul realizat de Piazzola tangoului este enorm\, în special aducerea acestuia la un nivel academic foarte înalt și\, implicit\, pe cele mai importante scene ale lumii\, lucru de neconceput înaintea lui. \nAranjamentele și transcrierea făcute de Mariano Castro\, pentru acest ansamblu\, sunt construite în jurul minunatului instrument pe care Piazzolla l-a făcut atât de cunoscut: bandoneonul. Omar Massa este unul dintre cei mai apreciați reprezentanți tineri ai acestui instrument. \nAnalia SELIS \nDupă binecunoscuta carieră în muzica comercială\, Analia își directionează activitatea către muzica autentică argentiniană\, tangoul. Cele două ediții ale turneului Vă place Tango?\, cât și \nproiectul de mare succes Tango simfonic\, sunt dovada clară că tangoul este viitorul Analiei\, exprimarea cea mai autentica a unui argentinian. \nanaliaselis.com \nOmar MASSA \nAmbasador al muzicii lui Piazzolla pe marile scene ale lumii\, alături de artiști precum Placido Domingo\, Omar Massa este present permanent pe scene ale marilor orchestre din America\, Europa și Asia. Omar este  component și fondator al cvartetului de bandoneoane Quatrotango și este invitat frecvent pentru a susține masterclass-uri în întreaga lume. Vine în România special pentru proiectul orchestrei TANGO ARGENTINO. \nomarmassa.com \nRafael BUTARU \nConcertmaestru al Operei Naționale din București\, al Orchestrei Române de Tineret a României și al Orchestrei Simfonice Naționale Române\, violonistul Rafael Butaru este o prezență constantă pe scenele muzicale naționale și internaționale. În calitate de solist și ca invitat  permanent al Festivalului Sonoro\, a susținut concerte alături de muzicieni precum Gilles Apap\, Daniel Rowland\, Răzvan Popovici\, Diana Ketler\, David Cohen\, Srdjan Vukasinovic și mulți alții. \nDatorită polivalenței sale muzicale și a altruismului ce îl caracterizează\, Fundația Principesa Margareta l-a ales\, din 2014\, pentru a fi mentor și lector generațiilor de copii talentați ai României. \nRăzvan SUMA \nSolist concertist al Orchestrelor Radio și profesor la Universitatea de Muzică București\, dezvoltă o perpetuă carieră internațională de solist\, cele peste 1000 de concerte și recitaluri pe care le-a susținut fiind apreciate pe toate continentele. Reprezentat de cele 12 CD-uri ale sale\, Răzvan este considerat unul dintre cei mai prolifici violonceliști români ai momentului. Din anul 2016\, Răzvan Suma este și Director al Orchestrelor și Corurilor Radio. \nrazvansuma.com \nMariano CASTRO \nÎmpreună cu Narcotango\, Mariano Castro în triplă calitate – interpret\, compozitor și orchestrator – a fost nominalizat de două ori la Latin Grammy Awards (2009 şi 2010) la categoria Cel mai bun album de tango. Cu aceasta trupă\, dar și in calitate de pianist și chitarist \nsolist\, are la activ peste 25 de turnee internaționale în Europa\, Statele Unite\, Canada și America Latină. \nmarianocastro.com
URL:https://www.ucimr.ro/eveniment/anotimpuri-toamna-cu-argentango/
LOCATION:Sala Thalia\, Sibiu\, Sibiu\, România
CATEGORIES:Sibiu
ATTACH;FMTTYPE=image/jpeg:https://www.ucimr.ro/wp-content/uploads/2016/10/Anotimpuri-Toamna-ArgEnTango.jpg
END:VEVENT
BEGIN:VEVENT
DTSTART;TZID=America/New_York:20160319T190000
DTEND;TZID=America/New_York:20160319T200000
DTSTAMP:20260420T122447
CREATED:20160316T060517Z
LAST-MODIFIED:20160316T060849Z
UID:1269-1458414000-1458417600@www.ucimr.ro
SUMMARY:Tales @ Sibiu
DESCRIPTION:Duo Cello Jaya\, unul dintre cele mai apreciate ansambluri camerale din România\, va susține primul turneu național în perioada 19 – 31 martie în orașele Sibiu\, Târgu – Mureș\, Craiova\, Sinaia\, București și Pitești. \nFarmecul de poveste al violoncelului va prinde viață prin programul propus de Ella Bokor și Mircea Marian\, violonceliști remarcați în formula de duo în ultimii 5 ani pe scenele marilor săli de concert din România. \nLa acest turneu\, li se va alătura actrița Ioana Flora\, în rolul de povestitor\, a cărei activitate în cinematografie i-a adus în ultimii ani premiul pentru „Cea mai bună actriță” la numeroase festivaluri internaționale (Salonic\, Aubagne\, selecție la Cannes și Premiul Gopo) și\, totodată\, al doilea invitat special va fi soprana Veronica Anușca\, una dintre vocile noii generații\, distinsă cu numeroase premii naționale și internaționale pentru interpretare.
URL:https://www.ucimr.ro/eveniment/tales-sibiu/
LOCATION:Sala Thalia\, Sibiu\, Sibiu\, România
CATEGORIES:Sibiu
ATTACH;FMTTYPE=image/jpeg:https://www.ucimr.ro/wp-content/uploads/2016/03/turneu-duo-cello-jaya-tales.jpg
END:VEVENT
END:VCALENDAR