BEGIN:VCALENDAR
VERSION:2.0
PRODID:-//UCIMR - ECPv6.0.11//NONSGML v1.0//EN
CALSCALE:GREGORIAN
METHOD:PUBLISH
X-ORIGINAL-URL:https://www.ucimr.ro
X-WR-CALDESC:Events for UCIMR
REFRESH-INTERVAL;VALUE=DURATION:PT1H
X-Robots-Tag:noindex
X-PUBLISHED-TTL:PT1H
BEGIN:VTIMEZONE
TZID:Europe/Bucharest
BEGIN:DAYLIGHT
TZOFFSETFROM:+0200
TZOFFSETTO:+0300
TZNAME:EEST
DTSTART:20230326T010000
END:DAYLIGHT
BEGIN:STANDARD
TZOFFSETFROM:+0300
TZOFFSETTO:+0200
TZNAME:EET
DTSTART:20231029T010000
END:STANDARD
TZID:America/New_York
BEGIN:DAYLIGHT
TZOFFSETFROM:-0500
TZOFFSETTO:-0400
TZNAME:EDT
DTSTART:20160313T070000
END:DAYLIGHT
BEGIN:STANDARD
TZOFFSETFROM:-0400
TZOFFSETTO:-0500
TZNAME:EST
DTSTART:20161106T060000
END:STANDARD
BEGIN:DAYLIGHT
TZOFFSETFROM:-0500
TZOFFSETTO:-0400
TZNAME:EDT
DTSTART:20170312T070000
END:DAYLIGHT
BEGIN:STANDARD
TZOFFSETFROM:-0400
TZOFFSETTO:-0500
TZNAME:EST
DTSTART:20171105T060000
END:STANDARD
END:VTIMEZONE
BEGIN:VEVENT
DTSTART;TZID=Europe/Bucharest:20231124T200000
DTEND;TZID=Europe/Bucharest:20231124T200000
DTSTAMP:20260422T234056
CREATED:20231122T155126Z
LAST-MODIFIED:20231122T155126Z
UID:5621-1700856000-1700856000@www.ucimr.ro
SUMMARY:Călătorie în Jurul lumii în 50 de minute
DESCRIPTION:UCIMR vă invită să parcurgeți Călătoria Muzicală în Jurul Lumii în 50 de Minute printr-un Recital Cameral ce va avea loc vineri\, 24 noiembrie\, începând cu orele 20:00\, la Centrul Multifuncțional din Pitești. Seara va fi asigurată de violoncelistul Adrian Mantu împreună cu acordeonistul Dermot Dunne și artistul Mihai Cucu.\nDin program fac parte lucrări precum: \nGrand Tango – Astor Piazzolla\nVariazioni di Bravura – Nicolo Paganini\nMirror in mirror – Arvo Pärt\nCoolin – Joan Trimble\nBachianas Brasileiras – Heitor Villa-Lobos\nEnnio Morricone – The Legend of 1900 / Playing LOVE\nConstantin Dimitrescu – Dans Țărănesc\nNorth Korean Song \nConcertul face parte din proiectul CelloVision\, care își propune să creeze o legătură între diverse forme de artă și artiști\, prin intermediul videografiei de avangardă.\nIntegrând muzică live alături de elemente vizuale\, proiectul oferă publicului o experiență memorabilă\, o călătorie muzicală ce traversează de la clasic la contemporan și îmbină armonios jocul de imagini figurative și abstracte. \nVă așteptăm!
URL:https://www.ucimr.ro/eveniment/calatorie-in-jurul-lumii-in-50-de-minute/
LOCATION:Centrul Multifuncținal Pitești\, Calea Bucuresti nr 2\, Pitesti \, România
CATEGORIES:Pitesti
ATTACH;FMTTYPE=image/jpeg:https://www.ucimr.ro/wp-content/uploads/2023/11/UCIMR_Graphic-Design_2023_Filarmonica-Pitesti_Calatorie-in-jurul-lumii_portrait.jpeg
END:VEVENT
BEGIN:VEVENT
DTSTART;TZID=America/New_York:20170615T080000
DTEND;TZID=America/New_York:20170715T170000
DTSTAMP:20260422T234056
CREATED:20170628T013227Z
LAST-MODIFIED:20170628T013227Z
UID:1762-1497513600-1500138000@www.ucimr.ro
SUMMARY:CAMERA - Apel de proiecte în sprijinul muzicii noi
DESCRIPTION:UCIMR în parteneriat cu EnjoyTV.ro a lansat CAMERA\, un apel de proiecte în sprijinul muzicii noi din aria cultă \nEforturile tinerilor muzicieni români de a compune lucrări originale rămân de multe ori accesibile unui public restrâns\, iar patrimoniul imaterial ce se creează în acest moment riscă să se piardă. De acum\, evenimentele și performance-urile realizate de ei primesc sprijinul nostru pentru a ajunge la o audiență națională\, prin co-finanțare AFCN. \nPerioada de înscrieri este 15 iunie – 15 iulie. \nApelul este un demers realizat în premieră în România\, dedicat tuturor celor care urmează să organizeze concerte sau spectacole de muzică nouă cultă (compusă după ianuarie 2016)\, de factură contemporană scrisă sau experimentală/improvizatorică. \nEvenimentele sunt eligibile pentru perioada 10 septembrie – 10 noiembrie 2017\, în București\, Sibiu sau Târgu Mureș. \nVor fi selectate 6 propuneri câștigătoare care vor fi promovate prin EnjoyTV.ro: transmisie prin live streaming a concertului/spectacolului\, întregistrarea audio-video integrală mixată din fluxul live\, în foarte bune condiţii tehnice\, un video-montaj scurt al înregistrării\, un set de fotografii documentare profesioniste și un premiu în valoare de 2000 lei pentru fiecare din cele 6 concerte sau spectacole câștigătoare. \nRegulamentul și mai multe amănunte pot fi găsite pe site-ul UCIMR – Uniunea de Creație Interpretativă a Muzicienilor din România:\nhttp://www.ucimr.ro/camera/\n \nO dată cu acest proiect\, ENJOYTV.ro și-a anunțat public statutul de televiziune culturală online\, după o experiență cumulată în mai bine de 2 ani de transmisiuni și producții culturale. \nFluxul EnjoyTV.ro cuprinde în prezent o arhivă de peste 150 de producții originale\, emisiuni și înregistrări ale unor proiecte recente precum Round Table București\, Round Table România\, Stagiunea de colecție\, Arts District is Here\, Festivalul Icon Arts\, ArgEnTango\, Pauza de o pătrime\, numeroase concerte din București\, Sibiu\, Sinaia\, Târgu – Mureș\, iar numărătoarea continuă în perspectiva anului 2017 în care sunt anunțate noi proiecte culturale realizate de partenerii EnjoyTV.ro
URL:https://www.ucimr.ro/eveniment/camera-apel-de-proiecte-in-sprijinul-muzicii-noi/
CATEGORIES:Brașov,Bucuresti,Cluj,Constanța,Craiova,Iași,Pitesti,Ploiesti,Râșnov,Sibiu,Sinaia,Sudul Transilvaniei,Targu Mures,Timișoara
ATTACH;FMTTYPE=image/jpeg:https://www.ucimr.ro/wp-content/uploads/2016/01/logo-CAMERA.jpg
END:VEVENT
BEGIN:VEVENT
DTSTART;TZID=America/New_York:20161118T190000
DTEND;TZID=America/New_York:20161118T200000
DTSTAMP:20260422T234056
CREATED:20161102T113606Z
LAST-MODIFIED:20161102T113606Z
UID:1516-1479495600-1479499200@www.ucimr.ro
SUMMARY:Concert „Vă place Schu…?”
DESCRIPTION:Violoncelistul Răzvan Suma și  pianistul Horia Mihail pornesc într-o nouă ediție a turneului lansat acum 10 ani: „Vă place Schu…? bert? mann?”.\nÎntre 7 și 18 noiembrie\, aveți ocazia să alegeți dacă vă place Schubert sau Schumann\, participand la unul din cele 7 concerte din țară.
URL:https://www.ucimr.ro/eveniment/concert-va-place-schu-4/
LOCATION:Centrul Multifuncținal Pitești\, Calea Bucuresti nr 2\, Pitesti \, România
CATEGORIES:Pitesti
ATTACH;FMTTYPE=image/jpeg:https://www.ucimr.ro/wp-content/uploads/2016/11/afis-turneu-va-place-schu.jpg
END:VEVENT
BEGIN:VEVENT
DTSTART;TZID=America/New_York:20160331T080000
DTEND;TZID=America/New_York:20160331T170000
DTSTAMP:20260422T234056
CREATED:20160316T061810Z
LAST-MODIFIED:20160316T061921Z
UID:1279-1459411200-1459443600@www.ucimr.ro
SUMMARY:Tales @ Pitești
DESCRIPTION:Duo Cello Jaya\, unul dintre cele mai apreciate ansambluri camerale din România\, va susține primul turneu național în perioada 19 – 31 martie în orașele Sibiu\, Târgu – Mureș\, Craiova\, Sinaia\, București și Pitești. \nFarmecul de poveste al violoncelului va prinde viață prin programul propus de Ella Bokor și Mircea Marian\, violonceliști remarcați în formula de duo în ultimii 5 ani pe scenele marilor săli de concert din România. \nLa acest turneu\, li se va alătura actrița Ioana Flora\, în rolul de povestitor\, a cărei activitate în cinematografie i-a adus în ultimii ani premiul pentru „Cea mai bună actriță” la numeroase festivaluri internaționale (Salonic\, Aubagne\, selecție la Cannes și Premiul Gopo) și\, totodată\, al doilea invitat special va fi soprana Veronica Anușca\, una dintre vocile noii generații\, distinsă cu numeroase premii naționale și internaționale pentru interpretare. \nÎmpreună vor reda un ambient sonor inedit într-un format nou de spectacol menit să apropie publicul de rezonanțele nemaipovestite ale violoncelului.
URL:https://www.ucimr.ro/eveniment/tales-pitesti/
LOCATION:Filarmonica din Pitesti\, Ploiesti 
CATEGORIES:Pitesti
ATTACH;FMTTYPE=image/jpeg:https://www.ucimr.ro/wp-content/uploads/2016/03/turneu-duo-cello-jaya-tales.jpg
END:VEVENT
END:VCALENDAR