BEGIN:VCALENDAR
VERSION:2.0
PRODID:-//UCIMR - ECPv6.0.11//NONSGML v1.0//EN
CALSCALE:GREGORIAN
METHOD:PUBLISH
X-WR-CALNAME:UCIMR
X-ORIGINAL-URL:https://www.ucimr.ro
X-WR-CALDESC:Events for UCIMR
REFRESH-INTERVAL;VALUE=DURATION:PT1H
X-Robots-Tag:noindex
X-PUBLISHED-TTL:PT1H
BEGIN:VTIMEZONE
TZID:Europe/Bucharest
BEGIN:DAYLIGHT
TZOFFSETFROM:+0200
TZOFFSETTO:+0300
TZNAME:EEST
DTSTART:20230326T010000
END:DAYLIGHT
BEGIN:STANDARD
TZOFFSETFROM:+0300
TZOFFSETTO:+0200
TZNAME:EET
DTSTART:20231029T010000
END:STANDARD
TZID:America/New_York
BEGIN:DAYLIGHT
TZOFFSETFROM:-0500
TZOFFSETTO:-0400
TZNAME:EDT
DTSTART:20170312T070000
END:DAYLIGHT
BEGIN:STANDARD
TZOFFSETFROM:-0400
TZOFFSETTO:-0500
TZNAME:EST
DTSTART:20171105T060000
END:STANDARD
BEGIN:DAYLIGHT
TZOFFSETFROM:-0500
TZOFFSETTO:-0400
TZNAME:EDT
DTSTART:20180311T070000
END:DAYLIGHT
BEGIN:STANDARD
TZOFFSETFROM:-0400
TZOFFSETTO:-0500
TZNAME:EST
DTSTART:20181104T060000
END:STANDARD
END:VTIMEZONE
BEGIN:VEVENT
DTSTART;TZID=Europe/Bucharest:20230801T200000
DTEND;TZID=Europe/Bucharest:20230801T200000
DTSTAMP:20260420T031808
CREATED:20230801T113122Z
LAST-MODIFIED:20230801T122545Z
UID:4501-1690920000-1690920000@www.ucimr.ro
SUMMARY:ICon Arts XXI – Concert Caritabil Violoncel
DESCRIPTION:Vă invităm la concertul caritabil susținut de Ansamblul PlaCello\, compus din Ella Bokor și Răzvan Suma\, care va avea loc pe 1 august\, de la ora 20:00\, la Hansi în Criț. \nÎn program vor fi interpretate lucrări de David Popper\, Luigi Boccherini\, Friedrich Dotzauer\, Wolfgang Amadeus Mozart\, Jean-Baptiste Barrière. \n  \n\nElla Bokor este violoncelistă\, fondatoarea proiectului MiniCellos\, Manager al CellEAST Festival\, C.D.A. la Catedra de muzică de cameră a U.N.M.B.\, președinte al Asociației Culturale PlaCello\, secretar muzical al C.N.A.T.R. și profesoară la clasa de violoncel în cadrul C.N.A. Dinu Lipatti. \nEste membră fondatoare a Ansamblului PlaCello\, Duo Cello Jaya și Ludens Piano Trio\, alături de care a realizat turnee naționale începând cu anul 2016. De asemenea\, a susținut turnee internaționale în Irlanda\, Vietnam și Moldova. \nDintre cele mai importante programe culturale\, educaționale și festivaluri la care fost invitată sunt: ICon Arts\, Festivalul SoNoRo\, SoNoRo Conac\, Isa16 – International Summer Academy\, Villa Musica\, Cello Fundamento Vietnam\, Plovdin Chamber Music International Festival\, Festivalul Internațional George Enescu\, Festivalul de Muzică din Salonic\, Baroque Week\, Bucharest Music Film Festival\, Simn Festival\, TIFF\, Festivalul Meridian\, ConnectArts și SoNoRo Interferențe. \nDe-a lungul carierei artistice a susținut concerte alături de muzicieni de prestigiu precum: Alexander Bouzlov\, David Grimal\, Jan-Erik Gustaffson\, Alexandra Guțu\, Diana Ketler\, Sergey Malov\, Cristian Măcelaru\, Alissa Margulis\, Marie Luise Neunecker\, Răzvan Popovici și Valentin Răduțiu. \nVioloncelista a absolvit studiile de Licență\, Master și Doctorat în cadrul Universității Naționale de Muzică din București la clasa Prof. Univ. Dr. Marin Cazacu și a studiat prin bursa Erasmus în Germania la Hochschule für Musik und Darstellende Kunst Frankfurt am Main. \nCD-ul Tales este o realizare a Duo Cello Jaya\, formație camerală cu o activitate artistică de zece ani\, care are în repertoriu peste 10 lucrări compuse și dedicate acestui ansamblu cameral.\nA colaborat cu orchestre precum: Filarmonica „George Enescu”\, ansamblul Les Dissonances și Richard Wagner International Orchestra\, fiind membră a Orchestrei Române de Tineret și a Orchestrei Naționale Simfonice a României. \nRăzvan Suma este Solist Concertist al Orchestrelor şi Corurilor Radio\, iar în calitate de profesor la Universitatea Națională de Muzică Bucureşti dezvoltă o intensă activitate pedagogică. Este invitat să predea Masterclass-uri în Spania\, Italia\, Polonia\, Serbia\, Argentina\, Bulgria\, Lituania\, Ucraina\, Vietnam sau Coreea. \nRăzvan este câștigător al concursurilor de mare prestigiu Giovanni Batista Viotti – Italia sau Markneukirchen – Germania. \nDe asemenea Răzvan este fondator al Ansamblului PlaCello. \nA colaborat cu nume importante ale muzicii clasice internaţionale\, precum Maxim Vengerov\, Richard Galliano\, Wen Sinn Yang\, Yi-Bing Chu\, Cristian Măcelaru\, Philippe Graffin\, Cvartetul Borromeo\, Justus Franz sau Naoto Otomo\, în săli de renume precum Berliner Philharmoniker\, Auditorio Nacional de Madrid\, Teatro Colon din Buenos Aires\, Centrul Cultural Belém din Lisabona\, Megaron din Atena\, Kursall din San Sebastian\, Casa da Musica din Porto sau Opera House din Hanoi – Vietnam. \nRăzvan este inițiator și Director Artistic al CellEAST Festival. \nDe asemenea\, din anul 2019 este Director Artistic al Academiei și Festivalului ICon Arts. \nConcertul caritabil este organizat de Clubul Rotary Sighișoara.\nParteneri: Festival ICon Arts\, MiniCellos\, Asociația Culturală PlaCello\nVă așteptăm alături de noi!
URL:https://www.ucimr.ro/eveniment/icon-arts-xxi-concert-caritabil-violoncel/
LOCATION:La Hansi in Criț\, Str. Principală 220\, Criț\, Brașov\, 507036
CATEGORIES:Brașov,IconArts 2023
ATTACH;FMTTYPE=image/jpeg:https://www.ucimr.ro/wp-content/uploads/2023/08/363816423_773683974765525_6180523417516400565_n.jpg
END:VEVENT
BEGIN:VEVENT
DTSTART;TZID=Europe/Bucharest:20230727T190000
DTEND;TZID=Europe/Bucharest:20230727T200000
DTSTAMP:20260420T031808
CREATED:20230724T072200Z
LAST-MODIFIED:20230801T111629Z
UID:4476-1690484400-1690488000@www.ucimr.ro
SUMMARY:JAZZ BASTION III - Cătălin Milea Quartet
DESCRIPTION:Joi\, 27 iulie\, continuăm periplul muzical din stagiunea JAZZ BASTION III și ne dăm întâlnire cu Cătălin Milea Quartet\, ce s-a făcut remarcat prin abordarea inovatoare și pasiunea pentru muzică.\nCombinația de instrumente și stiluri muzicale creează o experiență sonoră unică prin abordarea originală a jazzului\, combinând elemente de swing clasic cu influențe contemporane și improvizații virtuose.
URL:https://www.ucimr.ro/eveniment/jazz-bastion-iii-catalin-milea-quartet/
LOCATION:Bastionul Artiștilor\, Strada George Coșbuc nr.9\, Brașov\, Brașov\, 500015\, România
CATEGORIES:Brașov,Jazz Bastion III
ATTACH;FMTTYPE=image/jpeg:https://www.ucimr.ro/wp-content/uploads/2023/07/362891902_295411153054516_8276651439308500784_n.jpg
END:VEVENT
BEGIN:VEVENT
DTSTART;TZID=America/New_York:20181026T180000
DTEND;TZID=America/New_York:20181026T190000
DTSTAMP:20260420T031808
CREATED:20181026T024438Z
LAST-MODIFIED:20181026T024438Z
UID:2073-1540576800-1540580400@www.ucimr.ro
SUMMARY:Sonorități de toamnă - Chiyuki Funakoshi – percuție (marimbă)\, Mayuko Komori – soprană\, Mihai Murariu - pianist
DESCRIPTION:Un eveniment cu totul aparte va avea loc vineri\, 26 octombrie\, de la ora 18:00 la Centrul Cultural Reduta (Strada Apollonia Hirscher nr. 8) prin concertul „Sonorități de toamnă” susținut de doi dintre cei mai apreciați artiști ai scenei tinere de muzică clasică din Japonia: Chiyuki Funakoshi – percuție (marimbă) și Mayuko Komori – soprană\, acompaniați de Mihai Murariu\, reputat pianist\, compozitor și profesor la Universitatea Națională de Muzică din București. \nConcertul face parte din seria de evenimente „100 de ani în 100 de concerte” inițiate de UCIMR pentru a sărbători Centenarul alături de public și de cei mai buni artiști ai momentului\, dar și alături de tinere talente în plină afirmare. \nIntrarea va fi liberă\, în limita locurilor disponibile\, prin înscriere în prealabil la adresa rezervari.ucimr@gmail.com \n\nSunetul sofisticat al muzicii japoneze întâlnește creația compozitorilor clasici europeni \nLaureații concursului „România” desfășurat anul acesta la Tokyo\, organizat de doamna Kazuko Shimada\, președintele asociației „Romanian Music Society in Japan”\, vor prezenta în fața publicului un program deosebit de spectaculos compus din opusuri ale creatorilor niponi\, precum: Takatsugu Muramatsu\, Kazunori Miyake\, Tatsunosuke Koshitani\, cât și lucrări semnate de titani ai muzicii europene: Johann Sebastian Bach\, Vincenzo Bellini\, Giacomo Puccini. \nArtiștii și-au dorit de mai mult timp să viziteze România\, iar câștigarea concursului din Tokyo le-a adus prilejul de a concerta aici\, într-un mini-turneu organizat de UCIMR – Uniunea de Creație Interpretativă a Muzicienilor din România. \nMarimbafonista Chiyuki Funakoshi a început studiul muzicii la vârsta de 12 ani. I-a avut maeștrii pe Koya Nakatani și Yumiko Watanabe. În anul 2015 ea a câștigat medalia de aur\, dar și premiul al III-lea la “Snaredrum Solo Competition” pentru juniori\, respectiv seniori. La cea de-a XIII-a ediție a Concursului Internațioanal “România” a obținut atât premiul I\, cât și Marele Premiu. În prezent este studentă a Academiei Musashino din Tokyo\, unde a primit în 2018 Bursa “In memoriam Naoaki Fukui” și a fost selectată ca membru al Ansamblului Musashino. \nSoprana Mayuko Komori a absolvit Colegiul de muzică din Osaka\, iar la ediția a XXI-a a “Japan Song Competition”\, a câștigat premiul I și Premiul “Fumiko Yotsuya”. La cea de-a XIII-a ediție a Concursului Internațioanal “România” de la Tokyo ea a obținut premiul al III-lea la secțiunea canto. \nMihai Murariu este pianist\, organist\, compozitor\, doctor în muzică\, precum și cadru didactic al Universității Naționale de Muzică București. \n\n 
URL:https://www.ucimr.ro/eveniment/sonoritati-de-toamna-chiyuki-funakoshi-percutie-marimba-mayuko-komori-soprana-mihai-murariu-pianist/
LOCATION:Centrul Cultural Reduta\, Strada Apollonia Hirscher nr. 8\, Brasov\, România
CATEGORIES:Brașov
ATTACH;FMTTYPE=image/jpeg:https://www.ucimr.ro/wp-content/uploads/2018/10/Sonoritati-de-Toamna-la-Centrul-Cultural-Reduta.jpg
END:VEVENT
BEGIN:VEVENT
DTSTART;VALUE=DATE:20170708
DTEND;VALUE=DATE:20170723
DTSTAMP:20260420T031808
CREATED:20170705T053212Z
LAST-MODIFIED:20170709T081144Z
UID:1796-1499472000-1500767999@www.ucimr.ro
SUMMARY:Festivalul Promenadelor Brașov
DESCRIPTION:Primul eveniment care unește sub același concept îmbinarea dintre istorie – muzică – artă\nFestivalul va porni de la reconstituire istorică până la cea mai nouă muzică metal rock și cea mai în vogă muzică jazz. Reunite sub tema „Lumea cea nouă”\, activitățile festivalului vor prezenta „noutatea” așa cum a apărut în istorie\, însă și noutatea contemporană dată de noul concept al Promenadei. Cu alte cuvinte\, Festivalul Promenadelor Brașovului cuprinde\, prin toate evenimentele sale\, o componentă de intervenție culturală de regenerare urbană. \nPe lângă faimoasele concerte de fanfară\, Promenadele au găzduit diverse activități culturale (cinematograf\, festivități locale) și au inspirat artiștii epocii.  Ca o urmare firească\, organizatorii propun trei noi promenade grupate tematic: Promenada Artelor\, Promenada Copiilor și Promenada Istorică\, fiecare marcate de evenimente inedite. \nPROMENADA ARTELOR este zona dedicată muzicii\, fotografiei și filmului. Aici vor avea loc concerte rock (Sub Tâmpa)\, jazz (După Ziduri) și proiecții de filme artistice (Bastionul Țesătorilor). Concertele sunt programate în fiecare sâmbătă seara. \nPROMENADA COPIILOR este zona educației culturale\, cu activități creative și educative: ateliere de confecționat mici instrumente muzicale\, ateliere de povești sonore\, ateliere de desen\, ateliere de colorat litografie istorică\, ateliere de sculptură în lemn – modele din perioada Belle Epoque și interbelic\, ateliere de bandă desenată istorică și gala câștigătorilor festivalului școlar de teatru \,\,Lumea scenei cu cei mici”. \nPROMENADA ISTORICĂ este rezervată Promenadelor de altădată\, cu expoziția în aer liber de fotografie istorică Promenada Brașovului de altădată (Promenada de Jos); expoziția tematică inspirată din contextul istoric și artistic al promenadelor (Bastionul Graft)\, cu sprijinul doamnei Adina Nanu (singura autoare din România care a scris despre istoria costumului); reconstituiri istorice în costume de epocă de la sfârșitul secolului XIX\, dar și din perioada interbelică (activitate coordonată de domnul Adrian – Silvan Ionescu\, directorul Institutului de Istoria Artei \,\,George Oprescu” București)\, tururi ghidate \,\,Cetatea Brașovului văzută din Promenadă”\, un decor de fotografie istorică \,\,Salutări din Brașov”\, un oficiu poștal pentru corespondență de epocă\, și\, poate cel mai spectaculos eveniment al festivalului\, concertul de muzică de promenadă cu participarea celei mai importante fanfare militare din România\, Muzica Reprezentativă a MAPN – pentru prima dată în orașul Brașov după o absență de aproape 30 de ani –  și\, nu în ultimul rând\, participarea Muzicii Academiei Forțelor Aeriene „Henri Coandă” din Brașov. Concertul fanfarelor va avea loc sâmbătă\, 22 iulie\, de la ora 19:00 în Piața Sfatului. \nDescriere festival & Program 
URL:https://www.ucimr.ro/eveniment/festivalul-promenadelor/
LOCATION:Locaţie Nedenumită\, Brasov\, România
CATEGORIES:Brașov
ATTACH;FMTTYPE=image/jpeg:https://www.ucimr.ro/wp-content/uploads/2017/07/afis-Promenade.jpg
END:VEVENT
BEGIN:VEVENT
DTSTART;TZID=America/New_York:20170615T080000
DTEND;TZID=America/New_York:20170715T170000
DTSTAMP:20260420T031808
CREATED:20170628T013227Z
LAST-MODIFIED:20170628T013227Z
UID:1762-1497513600-1500138000@www.ucimr.ro
SUMMARY:CAMERA - Apel de proiecte în sprijinul muzicii noi
DESCRIPTION:UCIMR în parteneriat cu EnjoyTV.ro a lansat CAMERA\, un apel de proiecte în sprijinul muzicii noi din aria cultă \nEforturile tinerilor muzicieni români de a compune lucrări originale rămân de multe ori accesibile unui public restrâns\, iar patrimoniul imaterial ce se creează în acest moment riscă să se piardă. De acum\, evenimentele și performance-urile realizate de ei primesc sprijinul nostru pentru a ajunge la o audiență națională\, prin co-finanțare AFCN. \nPerioada de înscrieri este 15 iunie – 15 iulie. \nApelul este un demers realizat în premieră în România\, dedicat tuturor celor care urmează să organizeze concerte sau spectacole de muzică nouă cultă (compusă după ianuarie 2016)\, de factură contemporană scrisă sau experimentală/improvizatorică. \nEvenimentele sunt eligibile pentru perioada 10 septembrie – 10 noiembrie 2017\, în București\, Sibiu sau Târgu Mureș. \nVor fi selectate 6 propuneri câștigătoare care vor fi promovate prin EnjoyTV.ro: transmisie prin live streaming a concertului/spectacolului\, întregistrarea audio-video integrală mixată din fluxul live\, în foarte bune condiţii tehnice\, un video-montaj scurt al înregistrării\, un set de fotografii documentare profesioniste și un premiu în valoare de 2000 lei pentru fiecare din cele 6 concerte sau spectacole câștigătoare. \nRegulamentul și mai multe amănunte pot fi găsite pe site-ul UCIMR – Uniunea de Creație Interpretativă a Muzicienilor din România:\nhttp://www.ucimr.ro/camera/\n \nO dată cu acest proiect\, ENJOYTV.ro și-a anunțat public statutul de televiziune culturală online\, după o experiență cumulată în mai bine de 2 ani de transmisiuni și producții culturale. \nFluxul EnjoyTV.ro cuprinde în prezent o arhivă de peste 150 de producții originale\, emisiuni și înregistrări ale unor proiecte recente precum Round Table București\, Round Table România\, Stagiunea de colecție\, Arts District is Here\, Festivalul Icon Arts\, ArgEnTango\, Pauza de o pătrime\, numeroase concerte din București\, Sibiu\, Sinaia\, Târgu – Mureș\, iar numărătoarea continuă în perspectiva anului 2017 în care sunt anunțate noi proiecte culturale realizate de partenerii EnjoyTV.ro
URL:https://www.ucimr.ro/eveniment/camera-apel-de-proiecte-in-sprijinul-muzicii-noi/
LOCATION:Brașov
CATEGORIES:Brașov,Bucuresti,Cluj,Constanța,Craiova,Iași,Pitesti,Ploiesti,Râșnov,Sibiu,Sinaia,Sudul Transilvaniei,Targu Mures,Timișoara
ATTACH;FMTTYPE=image/jpeg:https://www.ucimr.ro/wp-content/uploads/2016/01/logo-CAMERA.jpg
END:VEVENT
BEGIN:VEVENT
DTSTART;TZID=America/New_York:20170216T190000
DTEND;TZID=America/New_York:20170216T200000
DTSTAMP:20260420T031808
CREATED:20170228T063627Z
LAST-MODIFIED:20170228T063739Z
UID:1597-1487271600-1487275200@www.ucimr.ro
SUMMARY:Acasă la pianistul Horia Mihail - Round Table Romania
DESCRIPTION:Acasă la pianistul Horia Mihail\,\nediție specială Round Table Brașov \nJoi\, 16 februarie\, de la ora 19:00\, seria spectacolelor – conferință Round Table România ajunge la Brașov\, acasă la pianistul Horia Mihail. Cunoscut publicului larg prin turneele „Duelul viorilor” (alături de Gabriel Croitoru și Liviu Prunaru)\, „Vioara lui George Enescu” (alături de Gabriel Croitoru) și prin alte proiecte itinerante\, artistul va găzdui\, de această dată\, un eveniment cultural la reședința sa de la Brașov. Evenimentul va fi disponibil exclusiv online\, în direct pe www.EnjoyTV.ro. \nÎn rolul de moderator va fi\, de această dată\, Nicolae Pepene\, Directorul Muzeului Județean de Istorie din Brașov. De numele său se leagă inițiativele de restaurare ale Cetății Râșnov și încurajarea evenimentelor culturale precum Festivalul de Film Istoric\, Festivalul de Reconstituire Istorică. \nUrmătorul eveniment Round Table va fi dedicat cântăreței jazz Irina Sârbu și va fi transmis pe EnjoyTV.ro joi\, 23 februarie\, de la ora 19.00. \nInițiat de UCIMR\, proiectul Round Table însumează până în prezent 26 de evenimente\, cu zeci de mii de vizualizări pe internet. Începând cu acest sezon\, Round Table se va desfășura în fiecare joi în perioada 9 februarie – 30 martie\, după un format itinerant\, cu ediții în București\, Brașov\, Sibiu și Târgu-Mureș\, nelipsind intermediile artistice live. Cu acest prilej\, organizatorii au completat numele proiectului\, devenind Round Table România. Printre invitații Sezonului 4 se mai numără Luiza Zan\, Dan Perjovschi și Tiberiu Soare. \n„Programul Round Table România urmărește\, și în acest sezon\, promovarea artiștilor români ce s-au făcut remarcați pe scenele internaționale\, printr-un efort de redobândire a unei mentalități frumoase: aceea de a ne revalorifica elitele actuale românești.” – Valentina Sandu – Dediu\, moderatorul evenimentelor din București
URL:https://www.ucimr.ro/eveniment/acasa-la-pianistul-horia-mihail-round-table-romania/
LOCATION:Locaţie Nedenumită\, Brasov\, România
CATEGORIES:Brașov
ATTACH;FMTTYPE=image/jpeg:https://www.ucimr.ro/wp-content/uploads/2017/02/16819064_1789826128005481_5520887844948704022_o.jpg
END:VEVENT
END:VCALENDAR